Workbook

Sheet Definities
B1: Definitie | C1: Omschrijving | D1: Opleiding
A2: VOP: voldoende opgeleid(onderricht) persoon | B2: Een voldoende opgeleid persoon (VOP) is de persoon die op taakniveau is aangewezen binnen de scope van een specifieke regeling door VP en/of WV, voldoende is geïnstrueerd voor specifieke taken en/of werkzaamheden (exclusief aan voor de VP/WV voorbehouden handelingen) en onder toezicht van een VP en/of WV werkzaamheden uitvoert, zodanig dat gevaren die door de Installatie kunnen worden veroorzaakt worden voorkomen. | C2: Een voldoend onderricht persoon (VOP-er) is een werknemer die niet over een specifieke vaktechnische vooropleiding beschikt. | D2: Geen of een beroepsopleiding (of gelijkwaardig vastgesteld en erkend beroepsniveau WEB 1 tot 4) in een ander vakgebied.
C3: VOP-ers zijn voor hun (beperkte) taak opgeleide personen die vanwege een effectieve bedrijfsvoering bevoegd zijn tot het uitvoeren van een aantal vastgelegde (routinematige) taken. Behoudens de aan de VP-er voorbehouden handelingen.
C4: Een VOP-er is op de hoogte van de mogelijke risico’s binnen het specifieke vakgebied en is in staat deze te voorkomen bij de door hem uitgevoerde werkzaamheden.
C5: Omdat een brede kennis van een specifiek vakgebied en de risico’s ontbreekt, is het noodzakelijk de werkzaamheden en omstandigheden waaronder deze mogen worden uitgevoerd, zorgvuldig te omschrijven in de aanwijzingsverklaring.
C6: De instructie van VOP-ers kan plaatsvinden door de werkverantwoordelijke of een vakbekwaam persoon.
C7: De VOP-er werkt onder toezicht op basis van instructie en is verantwoordelijk voor zijn eigen werk (aangewezen taak)
C8: De VOP-er beschikt over beperkte, taakgerichte technische kennis en vaardigheden binnen zijn (aangestelde) taakstelling.
A9: VP: vakbekwaam persoon | B9: Een vakbekwaam persoon (VP) is de persoon die is aangewezen binnen de scope van een specifieke regeling en met aantoonbare relevante opleiding en ervaring, in staat is om zelfstandig beroepshandelingen en beroepstaken uit te voeren voor het aanleggen, controleren en onderhouden van de installatie. De VP beschikt over de relevante vakbekwaamheidsbewijzen. | C9: Een vakbekwaam persoon (VP-er) is iemand (meestal een monteur of eerste monteur) die zelfstandig of in teamverband werkzaamheden uitvoert. | D9: Een beroepsopleiding op niveau 2, 3 (of gelijkwaardig vastgesteld en erkend beroepsniveau 2, 3) in het specifieke vakgebied
C10: De VP-er wordt aangestuurd door een werkverantwoordelijke. Voor bepaalde werkzaamheden heeft hij geen werkopdracht nodig, maar kan hij volledig zelfstandig opereren. Deze werkzaamheden zijn dan in zijn aanwijzing als vakbekwaam persoon vastgelegd.
C11: Aanleggen, monteren, aansluiten, inbedrijfstellen (aan de VP-er toegewezen voorbehouden handeling) en het inspecteren van installaties vallen onder de werkzaamheden van de VP-er.
C12: De VP-er is verantwoordelijk voor zijn eigen werk en dat van anderen (VOP-er) en werkt zelfstandig.
C13: De VP-er beschikt voor basiskennis- (technisch/theoretisch) dan wel specialistische kennis en vaardigheden afhankelijk van het beroepsniveau. Heeft kennis van, en handelt naar, de geldende wet- en regelgeving.
A14: WV: Werkverantwoordelijke | B14: De werkverantwoordelijke (WV) is de persoon die is aangewezen binnen de scope van een specifieke regeling als direct verantwoordelijke voor de (geleverde) technisch kwaliteit van de Werkzaamheden en Installatie(s). De WV beschikt over de relevante vakbekwaamheidsbewijzen. | C14: De WV-er geeft leiding aan VP-ers en VOP-ers en is verantwoordelijk voor de uitgevoerde werkzaamheden. Hij zorgt in overleg met de installatieverantwoordelijke onder andere voor veilige procedures die voor de werkzaamheden benodigd zijn. Hij zorgt, en is daarvoor ook verantwoordelijk, dat het personeel wordt geïnstrueerd over de mogelijke gevaren en risico's. In de praktijk is een WV-er vaak een leidinggevende. | D14: Een beroepsopleiding op niveau 4(of gelijkwaardig vastgesteld en erkend beroepsniveau 4) in het specifieke vakgebied.
C15: De WV-er is (eind) verantwoordelijk voor de kwaliteit van de werkuitvoering van de VP-er en VOP-ers en werkt zelfstandig zonder tussentijdse verantwoording
C16: De WV-er beschikt over (vergaande) specialistische kennis (technisch/theoretisch). Past geldende wet- en regelgeving toe.
C17: Taken van de WV-er kunnen zijn:
C18: Uitvoeren risico inventarisatie van de werkzaamheden;
C19: Opstellen werkprocedures;
C20: Bepalen werkmethode;
C21: Verdelen van werk op basis van de aanwijzingen;
C22: Uitvoeren van toezicht op de naleving van instructies;
A25: Kennis en vaardigheidsniveau
A26: Kennen | B26: A (niveau: informatie herinneren, herkennen, beschrijven, benoemen)
A27: Begrijpen | B27: B (niveau: uitleggen, interpreteren, samenvatten, hernoemen)
A28: Toepassen | B28: C (niveau: Informatie gebruiken, uitvoeren, toepassen)
A29: Analyseren | B29: D (niveau: verbanden leggen, vergelijken, relaties zoeken, concluderen)
A32: bliksembeveiligingszone LPZ | B32: zone waar de aan blikseminslag gerelateerde elektromagnetische omgeving is gedefinieerd
A33: elektromagnetische impuls veroorzaakt door blikseminslag LEMP | B33: alle elektromagnetische effecten van bliksemstroom door resistieve, inductieve en capacitieve koppeling die impulsen en uitgestraalde elektromagnetische velden veroorzaken
A34: bliksembeveiligingsinstallatie LPS | B34: volledig systeem dat wordt gebruikt om fysieke schade ten gevolge van blikseminslagen op een object te verminderen
A35: externe bliksembeveiliging | B35: deel van de LPS dat bestaat uit een opvanginrichting, afgaande leidingen en een aardingsinstallatie
A36: interne bliksembeveiliging | B36: deel van de LPS dat bestaat uit bliksempotentiaalvereffening en/of elektrische isolatie ten opzichte van de externe bliksembeveiliging

Sheet Eindtermen
A1: Scope | B1: Ontwerpen, leveren, installeren, beheren, onderhouden en inspecteren van bliksembeveiligingsinstallaties
A2: Wet- en regelgeving: NEN 1014, NEN-EN-IEC 62305 delen 1 t/m 4, NEN 1010, NEN 3140, NEN-EN 50110-1 Richtlijnen: BRL1201, NPR 1014, NPR 8110, NPR 5310 | D2: Eind- termnr | E2: VOP | F2: VP | J2: WV
E3: Basismonteur aarding en bliksem | F3: Monteur aarding en bliksem | G3: Eerste monteur overspaningsbeveiliging | H3: Eerste monteur aarding en bliksem | I3: Inspecteur aarding, bliksem en overspanningsbeveiliging | J3: Werkvoorbereider/ projectleider | K3: Engineer aarding, bliksem en overspanningsbeveiliging | L3: Werkverantwoordelijke aarding, bliksem en overspannings-beveiliging
B4: Taak | C4: Handeling
A5: 1 | B5: Randvoorwaarden in kaart brengen en haalbaarheid toetsen | C5: Stelt klantwens vast | D5: 1.1 | J5: X | K5: X | L5: X
C6: Bepaalt aan de hand van de risicobepaling de omvang van het toe te passen beveiligings/aardingssysteem | D6: 1.2 | J6: X | K6: X | L6: X
C7: Verzamelt gegevens voor het ontwerp | D7: 1.3 | J7: X | K7: X | L7: X
C8: Adviseert over het toe te passen montage/leidingsysteem | D8: 1.4 | J8: X | K8: X | L8: X
C9: Hanteert bouwkundige kennis van daken met betrekking tot montagemogelijkheden | D9: 1.5 | J9: X | K9: X | L9: X
C10: Hanteert de vergunningen voorschriften van de overheid | D10: 1.6 | J10: X | K10: X | L10: X
C11: Bepaalt de conditie van het bestaande dak en dakafwerking | D11: 1.7 | J11: X | K11: X | L11: X
C12: Weegt haalbaarheid van de toepassing (van de klantwens) af | D12: 1.8 | J12: X | K12: X | L12: X
C13: Bepaalt de bereikbaarheid en toegankelijkheid van het object | D13: 1.9 | J13: X | K13: X | L13: X
C14: Verzamelt van informatie ten behoeve van de project map | D14: 1.10 | J14: X | K14: X | L14: X
C15: Vraagt eventuele bouwkundige- en installatie tekeningen op | D15: 1.11 | J15: X | K15: X | L15: X
C16: Vraagt eventuele constructieberekeningen op | D16: 1.12 | J16: X | K16: X | L16: X
C17: Controleert de conditie van het object/elektrische installatie | D17: 1.13 | J17: X | K17: X | L17: X
C18: Maakt offerte voor het uitwerken van een ontwerp | D18: 1.14 | J18: X | K18: X | L18: X
A19: 2 | B19: Bliksemveiligheid- en/of aardingsinstallatie ontwerpen | C19: Werkt bliksemveiligheid-/aardingsontwerp uit volgens de geldende normen | D19: 2.1 | J19: X | K19: X | L19: X
C20: Maakt gebruik van geldende normen en richtlijnen bij het ontwerp | D20: 2.2 | J20: X | K20: X | L20: X
C21: Bepaalt de impact en mogelijke gevolgschade van een blikseminslag d.m.v. risicobeoordeling | D21: 2.3 | J21: X | K21: X | L21: X
C22: Bepaalt de beschermingsmaatregelen (externe en/of interne beveiliging) | D22: 2.4 | J22: X | K22: X | L22: X
C23: Bepaalt de bouwkundige situatie | D23: 2.5 | J23: X | K23: X | L23: X
C24: Bepaalt het toe te passen beschermingsmethodiek | D24: 2.6 | J24: X | K24: X | L24: X
C25: Bepaalt de beschermingswijze van de elektrische installaties | D25: 2.7 | J25: X | K25: X | L25: X
C26: Houdt rekening met schaduwinval en neemt dit mee in een ontwerp | D26: 2.8 | J26: X | K26: X | L26: X
C27: Houdt rekening met de eventueel bestaande of uit te breiden bliksembeveiliging en/of vereffeningsinstallatie | D27: 2.9 | J27: X | K27: X | L27: X
C28: Maakt begroting en/of offerte voor het aanbrengen van bliksembeveiliging | D28: 2.10 | J28: X | K28: X | L28: X
C29: Maakt een tekening(pakket) | D29: 2.11 | J29: x | K29: x | L29: x
C30: Stelt plan van aanpak op | D30: 2.12 | J30: X | K30: X | L30: X
C31: Presenteert voorstel | D31: 2.13 | J31: X | K31: X | L31: X
A32: 3 | B32: Bliksemveiligheid- en/of aardingsinstallatie (ontwerp) uitwerken | C32: Verzamelt en verwerkt gegevens voor de installatie aan de hand van het ontwerp | D32: 3.1 | J32: X | K32: X | L32: X
C33: Maakt berekeningen en een kostenberekening | D33: 3.2 | J33: X | K33: X | L33: X
C34: Stelt offertes op | D34: 3.3 | J34: x | K34: X | L34: X
C35: Stelt werkbegroting en -planning op | D35: 3.4 | J35: X | K35: X | L35: X
C36: Kiest/selecteert materialen en onderdelen aan de hand van het ontwerp | D36: 3.5 | J36: X | K36: X | L36: X
C37: Organiseert mensen en middelen | D37: 3.6 | J37: X | L37: X
C38: Koopt capaciteit, materieel en materiaal in | D38: 3.7 | J38: X | L38: X
C39: Stelt projectplan op | D39: 3.8 | J39: X | L39: X
C40: Toetst bedrijfs RI&E in relatie tot het project | D40: 3.9 | J40: X | L40: X
...

Sheet eindtermen nw profiel
A1: Scope | B1: Ontwerpen, leveren, installeren, beheren, onderhouden en inspecteren van bliksembeveiligingsinstallaties
A2: Wet- en regelgeving: NEN 1014, NEN-EN-IEC 62305 delen 1 t/m 4, NEN 1010, NEN 3140, NEN-EN 50110-1 Richtlijnen: BRL1201, NPR 1014, NPR 8110, NPR 5310 | D2: Eind- termnr
E3: Basismonteur aarding en bliksem | F3: Monteur aarding en bliksem | G3: Eerste monteur overspaningsbeveiliging | H3: Eerste monteur aarding en bliksem | I3: Eerste monteur aarding, bliksem en overspanningsbeveiliging | J3: Inspecteur aarding, bliksem en overspanningsbeveiliging | K3: Werkvoorbereider/ projectleider | L3: Engineer aarding, bliksem en overspanningsbeveiliging | M3: Werkverantwoordelijke aarding, bliksem en overspannings-beveiliging
B4: Taak | C4: Handeling
A5: 1 | B5: Randvoorwaarden in kaart brengen en haalbaarheid toetsen | C5: Stelt klantwens vast | D5: 1.1 | K5: X | L5: X
C6: Bepaalt aan de hand van de risicobepaling de omvang van het toe te passen beveiligings/aardingssysteem | D6: 1.2 | K6: X | L6: X
C7: Verzamelt gegevens voor het ontwerp | D7: 1.3 | K7: X | L7: X
C8: Adviseert over het toe te passen montage/leidingsysteem | D8: 1.4 | K8: X | L8: X
C9: Hanteert bouwkundige kennis van daken met betrekking tot montagemogelijkheden | D9: 1.5 | K9: X | L9: X
C10: Hanteert de vergunningen voorschriften van de overheid | D10: 1.6 | K10: X | L10: X
C11: Bepaalt de conditie van het bestaande dak en dakafwerking | D11: 1.7 | K11: X | L11: X
C12: Weegt haalbaarheid van de toepassing (van de klantwens) af | D12: 1.8 | K12: X | L12: X
C13: Bepaalt de bereikbaarheid en toegankelijkheid van het object | D13: 1.9 | K13: X | L13: X
C14: Verzamelt van informatie ten behoeve van de project map | D14: 1.10 | K14: X | L14: X
C15: Vraagt eventuele bouwkundige- en installatie tekeningen op | D15: 1.11 | K15: X | L15: X
C16: Vraagt eventuele constructieberekeningen op | D16: 1.12 | K16: X | L16: X
C17: Controleert de conditie van het object/elektrische installatie | D17: 1.13 | K17: X | L17: X
C18: Maakt offerte voor het uitwerken van een ontwerp | D18: 1.14 | K18: X | L18: X
A19: 2 | B19: Bliksemveiligheid- en/of aardingsinstallatie ontwerpen | C19: Werkt bliksemveiligheid-/aardingsontwerp uit volgens de geldende normen | D19: 2.1 | K19: X | L19: X
C20: Maakt gebruik van geldende normen en richtlijnen bij het ontwerp | D20: 2.2 | K20: X | L20: X
C21: Bepaalt de impact en mogelijke gevolgschade van een blikseminslag d.m.v. risicobeoordeling | D21: 2.3 | K21: X | L21: X
C22: Bepaalt de beschermingsmaatregelen (externe en/of interne beveiliging) | D22: 2.4 | K22: X | L22: X
C23: Bepaalt de bouwkundige situatie | D23: 2.5 | K23: X | L23: X
C24: Bepaalt het toe te passen beschermingsmethodiek | D24: 2.6 | K24: X | L24: X
C25: Bepaalt de beschermingswijze van de elektrische installaties | D25: 2.7 | K25: X | L25: X
C26: Houdt rekening met schaduwinval en neemt dit mee in een ontwerp | D26: 2.8 | K26: X | L26: X
C27: Houdt rekening met de eventueel bestaande of uit te breiden bliksembeveiliging en/of vereffeningsinstallatie | D27: 2.9 | K27: X | L27: X
C28: Maakt begroting en/of offerte voor het aanbrengen van bliksembeveiliging | D28: 2.10 | K28: X | L28: X
C29: Maakt een tekening(pakket) | D29: 2.11 | K29: x | L29: x
C30: Stelt plan van aanpak op | D30: 2.12 | K30: X | L30: X
C31: Presenteert voorstel | D31: 2.13 | K31: X | L31: X
A32: 3 | B32: Bliksemveiligheid- en/of aardingsinstallatie (ontwerp) uitwerken | C32: Verzamelt en verwerkt gegevens voor de installatie aan de hand van het ontwerp | D32: 3.1 | K32: X | L32: X
C33: Maakt berekeningen en een kostenberekening | D33: 3.2 | K33: X | L33: X
C34: Stelt offertes op | D34: 3.3 | K34: x | L34: X
C35: Kiest/selecteert materialen en onderdelen aan de hand van het ontwerp | D35: 3.4 | K35: X | L35: X
C36: Draagt project map over | D36: 3.5 | K36: X | L36: X
A37: 4 | B37: Bliksemveiligheid- en/of aardingsinstallatie project realiseren | C37: Bereidt de projectrealisatie voor | D37: 4.1 | J37: X | K37: X | L37: X
C38: Begeleidt de projectuitvoering | D38: 4.2 | J38: X | K38: X | L38: X
C39: Onderhoudt contact met de opdrachtgever | D39: 4.3 | J39: X | K39: X | L39: X
C40: Voert projectadministratie | D40: 4.4 | J40: X | K40: X | L40: X
...

Sheet Basismonteur A&B
A1: Scope | B1: Ontwerpen, leveren, installeren, beheren, onderhouden en inspecteren van bliksembeveiligingsinstallaties | F1: Toetsniveau (A/B/C/D) | G1: Toetsmatrijs
A2: Wet- en regelgeving: NEN 1014, NEN-EN-IEC 62305 delen 1 t/m 4, NEN 1010, NEN 3140, NEN-EN 50110-1 Richtlijnen: BRL1201, NPR 1014, NPR 8110, NPR 5310 | D2: Eindtermen | G2: Praktijk
A4: 1 | B4: Randvoorwaarden in kaart brengen en haalbaarheid toetsen | C4: Stelt klantwens vast | D4: 1.1
C5: Bepaalt de omvang van het toe te passen systeem | D5: 1.2
C6: Maakt een inschatting van de economische winst (EPC en labels) (return on investment ROI) | D6: 1.3
C7: Verzamelt gegevens voor het ontwerp | D7: 1.4
C8: Adviseert over het toe te passen montagesysteem (indak, opdak, platdak) | D8: 1.5
C9: Hanteert bouwkundige kennis van daken met betrekking tot montagemogelijkheden | D9: 1.6
C10: Hanteert de vergunningen voorschriften van de overheid | D10: 1.7
C11: Bepaalt de conditie van het bestaande dak en dakafwerking | D11: 1.8
C12: Informeert over de aansluitwaarde netbeheerders | D12: 1.9
C13: Informeert over eventuele mogelijkheden en voorwaarden voor energieopslag | D13: 1.10
C14: Weegt haalbaarheid van de toepassing (van de klantwens) af | D14: 1.11
C15: Bepaalt de brandveiligheid van de gebouwonderdelen in relatie tot de zonne-stroom installatie | D15: 1.12
C16: Bepaalt de bereikbaarheid en toegankelijkheid van het object | D16: 1.13
... C20: Bepaalt/inspecteert van de conditie van het object/elektrische installatie | D20: 1.17
A21: 2 | B21: Zonnestroominstallatie ontwerpen | C21: Werkt elektrotechnisch ontwerp uit volgens de geldende normen | D21: 2.1
C22: Bepaalt de dakbelasting en toetst de toelaatbaarheid | D22: 2.2
C23: Bepaalt het toe te passen systeem (indak, opdak, platdak) | D23: 2.3
C24: Bepaalt de benodigde ventilatie voor het toe te passen systeem in relatie tot de bouwkundige situatie | D24: 2.4
C25: Bepaalt benodige bekabeling AC- en DC-zijde | D25: 2.5
C26: Bepaalt (type/capaciteit) omvormer en stringontwerp | D26: 2.6
C27: Bepaalt en specificeerd noodzaak capaciteitsuitbreiding verdeelinrichting | D27: 2.7
C28: Maakt een schaduwinval analyse en vertaalt dit in een systeemontwerp | D28: 2.8
C29: Houdt rekening met de bepalingen voor bliksembeveiliging en/of vereffeningsinstallatie | D29: 2.9
C30: Bepaalt eventuele mogelijkheden voor energieopslag | D30: 2.10
C31: Maakt een opbrengst/rendementsberekening | D31: 2.11
C32: Berekent de economische winst (ROI) | D32: 2.12
C33: Bepaalt de brandveiligheid van de gebouwonderdelen ten opzicht van de zonnestroominstallatie | D33: 2.13
... C36: Presenteert voorstel | D36: 2.16
A37: 3 | B37: Zonnestroominstallatie (ontwerpen) uitwerken | C37: Verzamelt en verwerkt gegevens voor de installatie aan de hand van het ontwerp | D37: 3.1
C38: Maakt kostenberekeningen en een opbrengstberekening | D38: 3.2
C39: Stelt offertes op | D39: 3.3
C40: Stelt werkbegroting en -planning op | D40: 3.4
C41: Kiest/selecteert materialen en onderdelen aan de hand van het ontwerp | D41: 3.5
C42: Organiseert mensen en middelen | D42: 3.6
C43: Koopt capaciteit, materieel en materiaal in | D43: 3.7
C44: Stelt projectplan op | D44: 3.8
C45: Stelt veiligheids-, gezondheids- en milieuplan op | D45: 3.9
C46: Zet referentieproject op | D46: 3.10
...

Sheet 1e Monteur
A1: Scope: Ontwerpen, leveren, installeren, beheren, onderhouden en inspecteren van bliksembeveiligingsinstallaties Wet- en regelgeving: NEN 1014, NEN-EN-IEC 62305 delen 1 t/m 4, NEN 1010, NEN 3140, NEN-EN 50110-1 Richtlijnen: BRL1201, NPR 1014, NPR 8110, NPR 5310 | F1: Toetsniveau (A/B/C/D) | G1: Toetsmatrijs
D2: Eindtermen | E2: VP | G2: Aantal vragen (max 30) | H2: Theorie of Praktijk
A3: Nr | B3: Taak | C3: Handeling
A4: 5 | B4: =Eindtermen!B49 -> Begeleiden werkzaamheden | C4: =Eindtermen!C49 -> Begeleidt en instrueert collega's bij installatiewerkzaamheden | D4: 5.1 | E4: x | F4: B/C | G4: nvt | H4: P
C5: =Eindtermen!C50 -> Begeleidt de uitvoering van opdrachten | D5: 5.2 | E5: x | F5: B/C
A6: 6 | B6: =Eindtermen!B51 -> Bliksembeveiliging en/of aardingsinstallatie aanleggen en/of storingen verhelpen en onderhoud plegen | C6: Bereidt installatiewerkzaamheden voor en maakt LMRA (Laatste Minuut Risico Analyse) | D6: 6.1 | E6: x | F6: C | G6: 14 | H6: T/P
C7: Neemt maatregelen waardoor een onderhoud en/of verhelpen van een storing op een veilige manier kan worden uitgevoerd | D7: 6.2 | E7: x | F7: C/D
C8: Stelt de aard en omvang van uit te voeren werkzaamheden vast | D8: 6.3 | E8: x | F8: C
C9: Treft de benodigdheden voor veiligwerken aan de hand van de (bedrijfs)voorschriften veiligwerken op daken/hoogtes | D9: 6.4 | E9: x | F9: C
C10: Controleert ter plekke de voorwaarden voor veilige montage van het te installeren systeem | D10: 6.5 | E10: x | F10: C/D
C11: Hanteert de montagevoorwaarden voor het toe te passen systeem | D11: 6.6 | E11: x | F11: C
C12: Installeert montage- en leidingsystemen | D12: 6.7 | E12: x | F12: C
C13: Houdt rekening met de bestaande bliksembeveiligings-/vereffeningsinstallatie | D13: 6.8 | E13: x | F13: C
C14: Brengt dak, vloer- en/of muurdoorvoeringen aan of markeert volgens tekening de plaatsen waar deze moeten worden aangebracht. | D14: 6.9 | E14: x | F14: C
C15: (De)monteert installaties aan volgens normen en specificaties | D15: 6.10 | E15: x | F15: C
C16: Herstelt en/of verwijdert interne bliksembeveiliging | D16: 6.11 | E16: x | F16: C
C17: Verhelpt storingen op basis van de gestelde diagnose of voert modificaties of preventief onderhoud volgens (inspectie)opdracht uit | D17: 6.12 | E17: x | F17: C
C18: Test, beproeft en voert metingen uit op de installatie | D18: 6.13 | E18: x | F18: C
C19: Levert de installatie op conform opdracht | D19: 6.14 | E19: x | F19: C
A20: 8 | B20: =Eindtermen!B82 -> Zorgdragen voor veiligheid | C20: Stelt of zorgt ervoor dat (het deel van) de elektrische installatie waaraan gewerkt moet worden veilig (controleert hierbij op spanningsloosheid en de maatregel tegen wederinschakeling) | D20: 8.1 | E20: x | F20: C/D | G20: 9 | H20: T/P
C21: Draagt zorg voor alle aspecten van veiligwerken op daken/hoogtes | D21: 8.2 | E21: x | F21: C/D
C22: Zorgt onder alle omstandigheden voor een veilige gebruikssituatie van de installatie. (werkdruk, eisen van de klant end.) | D22: 8.3 | E22: x | F22: C
C23: Is alert op veranderingen in, aan, bij of in de omgeving van de installatie die van invloed kunnen zijn op de veiligheid of de prestaties van de installatie | D23: 8.4 | E23: x | F23: C
C24: Is alert op veiligheidsissues en/of gebreken, ook al zijn deze lang geleden ontstaan door wijzigingen in gebruik of verbouw en het melden daarvan | D24: 8.5 | E24: x | F24: C
C25: Handelt vanuit het bewustzijn dat hij de professional is die de staat van de installatie in relatie tot veiligheid kan waarnemen | D25: 8.6 | E25: x | F25: C
C26: Signaleert en meldt gevaarlijke situaties | D26: 8.7 | E26: x | F26: C
C27: Werkt volgens de norm en voorschriften | D27: 8.8 | E27: x | F27: C
C28: Zorgt voor een veilige werkomgeving voor zichzelf en omgeving | D28: 8.9 | E28: x | F28: C
A29: 9 | B29: =Eindtermen!B91 -> Rapporteren werkzaamheden | C29: =Eindtermen!C91 -> Rapporteert werkzaamheden | D29: 9.1 | E29: x | F29: C | G29: 1 | H29: T/P
C30: =Eindtermen!C92 -> Informeert de consument over het functioneren van de aarding- en blikseminstallatie | D30: 9.2 | E30: x | F30: C
C31: =Eindtermen!C93 -> Verantwoordt eventuele impopulaire bevindingen naar de klant ivm het niet (volledig) functioneren van de aanwezige installatie. | D31: 9.3 | E31: x | F31: C
A32: 10 | B32: Uitvoeren van kwaliteitscontroles | C32: Voert kwaliteitscontroles uit | D32: 10.1 | E32: x | F32: C | G32: 3 | H32: T
C33: Controleert resultaten op kwaliteit van proces, voortgang en budgetbewaking | D33: 10.2 | E33: x | F33: C
C34: Ziet toe op de documentatie van ontwerpinformatie en van project-voortgangsinformatie. | D34: 10.3 | E34: x | F34: C
A35: 11 | B35: =Eindtermen!B97 -> Opleveren van de bliksemveiligheid- en/of aardingsinstallatie | C35: Opleveren werkzaamheden | D35: 11.1 | E35: x | F35: C | G35: 3 | H35: T
C36: Controleert de installatie n.a.v. het ontwerp en afgesproken specificaties | D36: 11.2 | E36: x | F36: C
C37: Administratief afhandelen opleverpunten | D37: 11.3 | E37: x | F37: C
B38: Beroepshouding | G38: =SUM(G4:G37) -> 30
A39: 13 | B39: Communicatief | C39: Voorlichting en instructie geven aan de klant over het functioneren en beheren van de aarding- en bliksembeveiligingsinstallatie | D39: 13.1 | E39: x | F39: P
C40: Adviseren over de technische mogelijkheden en/of optimaliseren van de aarding- en bliksembeveiligingsinstallatie | D40: 13.2 | E40: x
...

Sheet Inspecteur
A1: Scope | B1: Ontwerpen, leveren, installeren, beheren, onderhouden en inspecteren van bliksembeveiligingsinstallaties | F1: Toetsniveau (A/B/C/D) | G1: Toetsmatrijs
A2: Wet- en regelgeving: NEN 1014, NEN-EN-IEC 62305 delen 1 t/m 4, NEN 1010, NEN 3140, NEN-EN 50110-1 Richtlijnen: BRL1201, NPR 1014, NPR 8110, NPR 5310 | D2: Eindtermen | E2: WV | G2: Aantal vragen (max 45) | H2: Theorie of Praktijk
A4: 1 | B4: Randvoorwaarden in kaart brengen en haalbaarheid toetsen | C4: Stelt klantwens vast | D4: 1.1
C5: Bepaalt de omvang van het toe te passen systeem | D5: 1.2
C6: Maakt een inschatting van de economische winst (EPC en labels) (return on investment ROI) | D6: 1.3
C7: Verzamelt gegevens voor het ontwerp | D7: 1.4
C8: Adviseert over het toe te passen montagesysteem (indak, opdak, platdak) | D8: 1.5
C9: Hanteert bouwkundige kennis van daken met betrekking tot montagemogelijkheden | D9: 1.6
C10: Hanteert de vergunningen voorschriften van de overheid | D10: 1.7
C11: Bepaalt de conditie van het bestaande dak en dakafwerking | D11: 1.8
C12: Informeert over de aansluitwaarde netbeheerders | D12: 1.9
C13: Informeert over eventuele mogelijkheden en voorwaarden voor energieopslag | D13: 1.10
C14: Weegt haalbaarheid van de toepassing (van de klantwens) af | D14: 1.11
C15: Bepaalt de brandveiligheid van de gebouwonderdelen in relatie tot de zonne-stroom installatie | D15: 1.12
C16: Bepaalt de bereikbaarheid en toegankelijkheid van het object | D16: 1.13
... C20: Bepaalt/inspecteert van de conditie van het object/elektrische installatie | D20: 1.17
A21: 2 | B21: Zonnestroominstallatie ontwerpen | C21: Werkt elektrotechnisch ontwerp uit volgens de geldende normen | D21: 2.1
C22: Bepaalt de dakbelasting en toetst de toelaatbaarheid | D22: 2.2
C23: Bepaalt het toe te passen systeem (indak, opdak, platdak) | D23: 2.3
C24: Bepaalt de benodigde ventilatie voor het toe te passen systeem in relatie tot de bouwkundige situatie | D24: 2.4
C25: Bepaalt benodige bekabeling AC- en DC-zijde | D25: 2.5
C26: Bepaalt (type/capaciteit) omvormer en stringontwerp | D26: 2.6
C27: Bepaalt en specificeerd noodzaak capaciteitsuitbreiding verdeelinrichting | D27: 2.7
C28: Maakt een schaduwinval analyse en vertaalt dit in een systeemontwerp | D28: 2.8
C29: Houdt rekening met de bepalingen voor bliksembeveiliging en/of vereffeningsinstallatie | D29: 2.9
C30: Bepaalt eventuele mogelijkheden voor energieopslag | D30: 2.10
C31: Maakt een opbrengst/rendementsberekening | D31: 2.11
C32: Berekent de economische winst (ROI) | D32: 2.12
C33: Bepaalt de brandveiligheid van de gebouwonderdelen ten opzicht van de zonnestroominstallatie | D33: 2.13
... C36: Presenteert voorstel | D36: 2.16
A37: 3 | B37: Zonnestroominstallatie (ontwerpen) uitwerken | C37: Verzamelt en verwerkt gegevens voor de installatie aan de hand van het ontwerp | D37: 3.1
C38: Maakt kostenberekeningen en een opbrengstberekening | D38: 3.2
C39: Stelt offertes op | D39: 3.3
C40: Stelt werkbegroting en -planning op | D40: 3.4
C41: Kiest/selecteert materialen en onderdelen aan de hand van het ontwerp | D41: 3.5
C42: Organiseert mensen en middelen | D42: 3.6
C43: Koopt capaciteit, materieel en materiaal in | D43: 3.7
C44: Stelt projectplan op | D44: 3.8
C45: Stelt veiligheids-, gezondheids- en milieuplan op | D45: 3.9
C46: Zet referentieproject op | D46: 3.10
...

Sheet Engineer
A1: Scope: Ontwerpen, leveren, installeren, beheren, onderhouden en inspecteren van bliksembeveiligingsinstallaties Wet- en regelgeving: NEN 1014, NEN-EN-IEC 62305 delen 1 t/m 4, NEN 1010, NEN 3140, NEN-EN 50110-1 Richtlijnen: BRL1201, NPR 1014, NPR 8110, NPR 5310 | F1: Toetsniveau (A/B/C/D) | G1: Toetsmatrijs
D2: Eindtermen | E2: WV | G2: Aantal vragen (max 55) | H2: Theorie of Praktijk
A3: Nr | B3: Taak | C3: Handeling
A4: 1 | B4: =Eindtermen!B5 -> Randvoorwaarden in kaart brengen en haalbaarheid toetsen | C4: Stelt klantwens vast | D4: 1.1 | E4: x | F4: C | G4: 10 | H4: T
C5: Bepaalt aan de hand van de risicobepaling de omvang van het toe te passen beveiligings/aardingssysteem | D5: 1.2 | E5: x | F5: C/D
C6: Verzamelt gegevens voor het ontwerp | D6: 1.3 | E6: x | F6: C
C7: Adviseert over het toe te passen montage/leidingsysteem | D7: 1.4 | E7: x | F7: C
C8: Hanteert bouwkundige kennis van daken met betrekking tot montagemogelijkheden | D8: 1.5 | E8: x | F8: C
C9: Hanteert de vergunningen voorschriften van de overheid | D9: 1.6 | E9: x | F9: C
C10: Bepaalt de conditie van het bestaande dak en dakafwerking | D10: 1.7 | E10: x | F10: B
C11: Weegt haalbaarheid van de toepassing (van de klantwens) af | D11: 1.8 | E11: x | F11: C
C12: Bepaalt de bereikbaarheid en toegankelijkheid van het object | D12: 1.9 | E12: x | F12: C
C13: Verzamelt van informatie ten behoeve van de project map | D13: 1.10 | E13: x | F13: C
C14: Vraagt eventuele bouwkundige- en installatie tekeningen op | D14: 1.11 | E14: x | F14: C
C15: Vraagt eventuele constructieberekeningen op | D15: 1.12 | E15: x | F15: C
C16: Controleert de conditie van het object/elektrische installatie | D16: 1.13 | E16: x | F16: C
C17: Maakt offerte voor het uitwerken van een ontwerp | D17: 1.14 | E17: x | F17: C
A18: 2 | B18: =Eindtermen!B19 -> Bliksemveiligheid- en/of aardingsinstallatie ontwerpen | C18: Werkt bliksemveiligheid-/aardingsontwerp uit volgens de geldende normen | D18: 2.1 | E18: x | F18: C | G18: 15 | H18: T/P
C19: Maakt gebruik van geldende normen en richtlijnen bij het ontwerp | D19: 2.2 | E19: x | F19: C
C20: Bepaalt de impact en mogelijke gevolgschade van een blikseminslag d.m.v. risicobeoordeling | D20: 2.3 | E20: x | F20: C/D
C21: Bepaalt de beschermingsmaatregelen (externe en/of interne beveiliging) | D21: 2.4 | E21: x | F21: C
C22: Bepaalt de bouwkundige situatie | D22: 2.5 | E22: x | F22: B
C23: Bepaalt het toe te passen beschermingsmethodiek | D23: 2.6 | E23: x | F23: C
C24: Bepaalt de beschermingswijze van de elektrische installaties | D24: 2.7 | E24: x | F24: C
C25: Houdt rekening met schaduwinval en neemt dit mee in een ontwerp | D25: 2.8 | E25: x | F25: C/D
C26: Houdt rekening met de eventueel bestaande of uit te breiden bliksembeveiliging en/of vereffeningsinstallatie | D26: 2.9 | E26: x | F26: C/D
C27: Maakt begroting en/of offerte voor het aanbrengen van bliksembeveiliging | D27: 2.10 | E27: x | F27: C
C28: Maakt een tekening(pakket) | D28: 2.11 | E28: x | F28: C
C29: Stelt plan van aanpak op | D29: 2.12 | E29: x | F29: C
C30: Presenteert voorstel | D30: 2.13 | E30: x | F30: C
A31: 3 | B31: =Eindtermen!B32 -> Bliksemveiligheid- en/of aardingsinstallatie (ontwerp) uitwerken | C31: Verzamelt en verwerkt gegevens voor de installatie aan de hand van het ontwerp | D31: 3.1 | E31: x | F31: C | G31: 15 | H31: T/P
C32: Maakt berekeningen en een kostenberekening | D32: 3.2 | E32: x | F32: C
C33: Stelt offertes op | D33: 3.3 | E33: x | F33: C
C34: Kiest/selecteert materialen en onderdelen aan de hand van het ontwerp | D34: 3.4 | E34: x | F34: C
C35: Draagt project map over | D35: 3.5 | E35: x | F35: C
A36: 4 | B36: =Eindtermen!B43 -> Bliksemveiligheid- en/of aardingsinstallatie project realiseren | C36: Bereidt de projectrealisatie voor | D36: 4.1 | E36: x | F36: C | G36: 3 | H36: T
C37: Begeleidt de projectuitvoering | D37: 4.2 | E37: x | F37: B
C38: Onderhoudt contact met de opdrachtgever | D38: 4.3 | E38: x | F38: C
C39: Voert projectadministratie | D39: 4.4 | E39: x | F39: B/C
A40: 8 | B40: Zorgdragen voor veiligheid | C40: Draagt zorg voor alle aspecten van veiligwerken op daken/hoogtes | D40: 8.2 | E40: x | F40: D | G40: 3 | H40: T
...

Sheet Werkverantwoordelijke
A1: Scope: Ontwerpen, leveren, installeren, beheren, onderhouden en inspecteren van bliksembeveiligingsinstallaties Wet- en regelgeving: NEN 1014, NEN-EN-IEC 62305 delen 1 t/m 4, NEN 1010, NEN 3140, NEN-EN 50110-1 Richtlijnen: BRL1201, NPR 1014, NPR 8110, NPR 5310 | F1: Toetsniveau (A/B/C/D) | G1: Toetsmatrijs
D2: Eindtermen | E2: WV | G2: Aantal vragen (max 55) | H2: Theorie of Praktijk
A3: Nr | B3: Taak | C3: Handeling
A4: 1 | B4: =Eindtermen!B5 -> Randvoorwaarden in kaart brengen en haalbaarheid toetsen | C4: =Eindtermen!C5 -> Stelt klantwens vast | D4: 1.1 | E4: x
C5: =Eindtermen!C6 -> Bepaalt aan de hand van de risicobepaling de omvang van het toe te passen beveiligings/aardingssysteem | D5: 1.2 | E5: x
C6: =Eindtermen!C7 -> Verzamelt gegevens voor het ontwerp | D6: 1.3 | E6: x
C7: =Eindtermen!C8 -> Adviseert over het toe te passen montage/leidingsysteem | D7: 1.4 | E7: x
C8: =Eindtermen!C9 -> Hanteert bouwkundige kennis van daken met betrekking tot montagemogelijkheden | D8: 1.5 | E8: x
C9: =Eindtermen!C10 -> Hanteert de vergunningen voorschriften van de overheid | D9: 1.6 | E9: x
C10: =Eindtermen!C11 -> Bepaalt de conditie van het bestaande dak en dakafwerking | D10: 1.7 | E10: x
C11: =Eindtermen!C12 -> Weegt haalbaarheid van de toepassing (van de klantwens) af | D11: 1.8 | E11: x
C12: =Eindtermen!C13 -> Bepaalt de bereikbaarheid en toegankelijkheid van het object | D12: 1.9 | E12: x
C13: =Eindtermen!C14 -> Verzamelt van informatie ten behoeve van de project map | D13: 1.10 | E13: x
C14: =Eindtermen!C15 -> Vraagt eventuele bouwkundige- en installatie tekeningen op | D14: 1.11 | E14: x
C15: =Eindtermen!C16 -> Vraagt eventuele constructieberekeningen op | D15: 1.12 | E15: x
C16: =Eindtermen!C17 -> Controleert de conditie van het object/elektrische installatie | D16: 1.13 | E16: x
C17: =Eindtermen!C18 -> Maakt offerte voor het uitwerken van een ontwerp | D17: 1.14 | E17: x
A18: 2 | B18: =Eindtermen!B19 -> Bliksemveiligheid- en/of aardingsinstallatie ontwerpen | C18: =Eindtermen!C19 -> Werkt bliksemveiligheid-/aardingsontwerp uit volgens de geldende normen | D18: 2.1 | E18: x
C19: =Eindtermen!C20 -> Maakt gebruik van geldende normen en richtlijnen bij het ontwerp | D19: 2.2 | E19: x
C20: =Eindtermen!C21 -> Bepaalt de impact en mogelijke gevolgschade van een blikseminslag d.m.v. risicobeoordeling | D20: 2.3 | E20: x
C21: =Eindtermen!C22 -> Bepaalt de beschermingsmaatregelen (externe en/of interne beveiliging) | D21: 2.4 | E21: x
C22: =Eindtermen!C23 -> Bepaalt de bouwkundige situatie | D22: 2.5 | E22: x
C23: =Eindtermen!C24 -> Bepaalt het toe te passen beschermingsmethodiek | D23: 2.6 | E23: x
C24: =Eindtermen!C25 -> Bepaalt de beschermingswijze van de elektrische installaties | D24: 2.7 | E24: x
C25: =Eindtermen!C26 -> Houdt rekening met schaduwinval en neemt dit mee in een ontwerp | D25: 2.8 | E25: x
C26: =Eindtermen!C27 -> Houdt rekening met de eventueel bestaande of uit te breiden bliksembeveiliging en/of vereffeningsinstallatie | D26: 2.9 | E26: x
C27: =Eindtermen!C28 -> Maakt begroting en/of offerte voor het aanbrengen van bliksembeveiliging | D27: 2.10 | E27: x
C28: =Eindtermen!C29 -> Maakt een tekening(pakket) | D28: 2.11 | E28: x
C29: =Eindtermen!C30 -> Stelt plan van aanpak op | D29: 2.12 | E29: x
C30: =Eindtermen!C31 -> Presenteert voorstel | D30: 2.13 | E30: x
A31: 3 | B31: =Eindtermen!B32 -> Bliksemveiligheid- en/of aardingsinstallatie (ontwerp) uitwerken | C31: =Eindtermen!C32 -> Verzamelt en verwerkt gegevens voor de installatie aan de hand van het ontwerp | D31: 3.1 | E31: x
C32: =Eindtermen!C33 -> Maakt berekeningen en een kostenberekening | D32: 3.2 | E32: x
C33: =Eindtermen!C34 -> Stelt offertes op | D33: 3.3 | E33: x
C34: =Eindtermen!C35 -> Stelt werkbegroting en -planning op | D34: 3.4 | E34: x
C35: =Eindtermen!C36 -> Kiest/selecteert materialen en onderdelen aan de hand van het ontwerp | D35: 3.5 | E35: x
C36: =Eindtermen!C37 -> Organiseert mensen en middelen | D36: 3.6 | E36: x
C37: =Eindtermen!C38 -> Koopt capaciteit, materieel en materiaal in | D37: 3.7 | E37: x
C38: =Eindtermen!C39 -> Stelt projectplan op | D38: 3.8 | E38: x
C39: =Eindtermen!C40 -> Toetst bedrijfs RI&E in relatie tot het project | D39: 3.9 | E39: x
C40: =Eindtermen!C41 -> Stelt projectteam samen | D40: 3.10 | E40: x
...

Sheet Bliksemveiligheid_Kennis
C1: TAKEN
C2: Randvoorwaarden in kaart brengen en haalbaarheid toetsen | D2: Bliksemveiligheid- en/of aardingsinstallatie ontwerpen | E2: Bliksemveiligheid- en/of aardingsinstallatie (ontwerp) uitwerken | F2: Bliksemveiligheid- en/of aardingsinstallatie project realiseren | G2: Begeleiden werkzaamheden | H2: Bliksembeveiliging en/of aardingsinstallatie aanleggen en/of storingen verhelpen en onderhoud plegen | I2: Het uitvoeren en rapporteren van een inspectie met betrekking tot bliksemveiligheid- en/of aardingsinstallatie | J2: Zorgdragen voor veiligheid | K2: Rapporteren werkzaamheden | L2: Uitvoeren van kwaliteitscontroles | M2: Opleveren van de bliksemveiligheid- en/of aardingsinstallatie | N2: Bliksemveiligheid- en/of aardingsinstallatie beheren
B3: KENNIS
A4: Algemeen | B4: Is bekend met de natuurkundige oorzaken en verschijnselen rondom bliksem en handelt hiernaar | C4: x | D4: x | E4: x | F4: x | G4: x | H4: x | I4: x | J4: x | K4: x | L4: x | M4: x | N4: x
A5: Algemeen | B5: Kent de gevolgen van blikseminslag i.r.t. directe en indirecte blikseminslag | C5: x | D5: x | E5: x | F5: x | G5: x | H5: x | I5: x | J5: x | K5: x | L5: x | M5: x | N5: x
A6: Algemeen | B6: Kent de van toepassing zijnde Wet- en regelgeving en normen: NEN 1014, NEN-EN-IEC 62305 delen 1 t/m 4, NEN 1010, NEN 3140, NEN-EN 50110-1. | C6: x | D6: x | E6: x | F6: x | G6: x | H6: x | I6: x | J6: x | K6: x | L6: x | M6: x | N6: x
A7: Algemeen | B7: Kent de van toepassing zijnde richtlijnen: BRL1201, NPR 1014, NPR 8110, NPR 5310 | C7: x | D7: x | E7: x | F7: x | G7: x | H7: x | I7: x | J7: x | K7: x | L7: x | M7: x | N7: x
A8: Algemeen | B8: Kent de opbouw en het werkingsprincipe van een bliksembeveiligings- en aardingsinstallatie en de verschillende componenten | C8: x | D8: x | E8: x | F8: x | G8: x | H8: x | I8: x | J8: x | K8: x | L8: x | M8: x | N8: x
A9: Algemeen | B9: Kent de verschillende begrippen en symbolen van een bliksembeveiligings- en aardingsinstallatie en weet welke kennisbronnen beschikbaar zijn als naslagwerk | C9: x | D9: x | E9: x | F9: x | G9: x | H9: x | I9: x | J9: x | K9: x | L9: x | M9: x | N9: x
A10: Algemeen | B10: Kennis van het lezen en gebruiken van technische tekeningen en specificaties van een bliksemveiligheids- en aardingsinstallatie | C10: x | D10: x | E10: x | F10: x | G10: x | H10: x | I10: x | J10: x | K10: x | L10: x | M10: x | N10: x
A11: ontwerp | B11: Weet uit welke elementen een bliksem RI&E bestaat | C11: x | D11: x | E11: x | I11: x | L11: x | N11: x
A12: ontwerp | B12: Kennis van ontwerpuitgangspunten in- en uitwendige bliksembeveiliging. | C12: x | D12: x | E12: x | H12: x | I12: x | M12: x | N12: x
A13: ontwerp | B13: Weten welke voorschriften gelden bij toepassing van bliksembeveiliging in combinatie met PV-systemen en of andere systemen | C13: x | D13: x | E13: x | F13: x | H13: x | I13: x | M13: x | N13: x
A14: ontwerp | B14: Kennis van het maken van bliksembeveiligings- en aardingsberekeningen | C14: x | D14: x | E14: x
A15: ontwerp | B15: Kent de belangrijkste aspecten die de verband houden met dak- en windbelasting | C15: x | D15: x | E15: x | F15: x | H15: x | I15: x | M15: x | N15: x
A16: ontwerp | B16: Weten welke aspecten een rol spelen bij uitbreiding van een verdeelinrichting t.b.v. bliksemveiligheids- en aardingsinstallatie en welke eisen en voorschriften gelden t.a.v. netaansluiting | C16: x | D16: x | E16: x | H16: x | I16: x | J16: x | M16: x | N16: x
A17: ontwerp | B17: Weten welke kostencomponenten van belang zijn voor een voorcalculatie/begroting/offerte en kan hierover adviseren. | C17: x | D17: x | E17: x | G17: x | I17: x | J17: x | K17: x | L17: x | N17: x
A18: ontwerp | B18: Weten welke informatie en elementen van belang zijn bij het uitwerken van een bliksembeveiligings, aardingsinstallatie en overspanningsbeveiliging (ontwerp) | C18: x | D18: x | E18: x | G18: x | I18: x | L18: x | N18: x
A19: Begeleiden werkzaamheden | B19: Inzicht in werkvolgorde en het begeleiden van werkzaamheden | E19: x | F19: x | G19: x | H19: x | J19: x | L19: x | M19: x | N19: x
A20: Aanleg | B20: Kennis van het op de juiste wijze veilig gebruiken van gereedschappen, machines en middelen | E20: x | F20: x | G20: x | H20: x | I20: x | J20: x | L20: x | M20: x | N20: x
A21: Aanleg | B21: Kennis van montagevoorwaarden en montage- en leidingsystemen en het installeren hiervan | E21: x | F21: x | G21: x | H21: x | I21: x | J21: x | L21: x | M21: x | N21: x
A22: Aanleg | B22: Kennis van verbindingstechnieken | E22: x | F22: x | G22: x | H22: x | I22: x | J22: x | L22: x | M22: x | N22: x
A23: Inspectie | B23: Weten welke normen, eisen en voorschriften gelden t.a.v. inspectie van bliksemveiligheids- en aardingsinstallaties | H23: x | I23: x | J23: x | K23: x | L23: x | M23: x | N23: x
A24: Inspectie | B24: Heeft bouwkundige kennis van daken (dakopbouw en dakbedekking) met betrekking tot montage-/inspectiemogelijkheden | H24: x | I24: x | J24: x | K24: x | L24: x | M24: x | N24: x
A25: Inspectie | B25: Kan een inspectierapport opstellen conform de richtlijnen | I25: x | K25: x | L25: x | M25: x
A26: Inspectie | B26: Kent de beveiligingsniveaus (LP1 t/m LP 4)(LPL I t/m LPL IV) | C26: x | D26: x | E26: x | F26: x | G26: x | H26: x | I26: x | K26: x | L26: x | M26: x | N26: x
A27: Inspectie | B27: Kent de beveiligingszones (LPZ) | C27: x | D27: x | E27: x | H27: x | I27: x | N27: x
A28: Inspectie | B28: Het (her)kennen van verschillende type montagesystemen en kent de oorzaak en gevolgen van galvanische corrosie | C28: x | D28: x | E28: x | F28: x | H28: x | I28: x | L28: x | M28: x | N28: x
A29: Inspectie | B29: Is bekend met bescherming ter vermindering van fysieke schade en levensgevaar | C29: x | D29: x | E29: x | I29: x | J29: x | N29: x
A30: Inspectie | B30: Is bekend met bescherming ter vermindering van falen van interne systemen | C30: x | D30: x | E30: x | I30: x | J30: x | N30: x
A31: Inspectie | B31: (her)kennen van externe storingselementen met betrekking tot de aardingsinstallatie | C31: x | D31: x | E31: x | H31: x | I31: x | N31: x
A32: Veiligheid | B32: Kent de inhoud van (Health and Safety uitgave veilig werken op daken). ARBOCATALOGUS 'Veilig werken op hoogte in de installatie- en isolatiebranches'. | C32: x | D32: x | E32: x | F32: x | G32: x | H32: x | I32: x | J32: x | K32: x | L32: x | M32: x | N32: x
A33: Veiligheid | B33: Weten welke normen en voorschriften gelden voor veilig werken aan E-, bliksemveiligheids- en aardingsinstallaties | C33: x | D33: x | E33: x | F33: x | G33: x | H33: x | I33: x | J33: x | K33: x | L33: x | M33: x | N33: x
A34: Veiligheid | B34: Kennis van de benodigde veiligheidsvoorzieningen zowel individueel als collectief | C34: x | D34: x | E34: x | F34: x | G34: x | H34: x | I34: x | J34: x | K34: x | L34: x | M34: x | N34: x
A35: Veiligheid | B35: Kan gedurende het werkproces toetsen of de praktijk blijft voldoen aan de veiligheidsplanvorming | C35: x | D35: x | E35: x | F35: x | G35: x | H35: x | I35: x | J35: x | K35: x | L35: x | M35: x | N35: x
A36: Kwaliteitscontrole | B36: Weet uit welke elementen een kwaliteitscontrole bestaat | C36: x | D36: x | E36: x | F36: x | G36: x | H36: x | I36: x | J36: x | K36: x | L36: x | M36: x | N36: x
A37: oplevering | B37: Weten welke eisen ten aanzien van rapportage bij oplevering gelden | C37: x | D37: x | E37: x | G37: x | H37: x | I37: x | J37: x | K37: x | L37: x | M37: x | N37: x
A38: rapporteren en oplevering | B38: Kennis van het voeren, bijhouden en afhandelen van (project)administratie en rapportage | C38: x | D38: x | E38: x | G38: x | H38: x | I38: x | J38: x | K38: x | L38: x | M38: x | N38: x
A39: beheer en onderhoud | B39: Kent de belangrijkste aspecten van een elektrotechnische veiligheidsplan (verantwoordelijkheid IV-er), inspectieplan aarding en bliksembeveiliging en/of MJOP en kan over deze laatste twee adviseren | C39: x | D39: x | E39: x | G39: x | H39: x | I39: x | J39: x | K39: x | N39: x
